BEGIN:VCALENDAR
VERSION:2.0
PRODID:-//eventon.com NONSGML v1.0//EN
CALSCALE:GREGORIAN
METHOD:PUBLISH
BEGIN:VEVENT
UID:69e9f00bcb17c
DTSTAMP:20260423T101019Z
DTSTART:20260520T180000Z
DTEND:20260520T190000Z
LOCATION:
SUMMARY:Design for Identity: 6 Habits of Culturally Competent Designers
DESCRIPTION:The 6 habits of culturally competent designers are critical too
 ls highlighted in the book Design for Identity: How to Design Authentically
  for a Diverse World\,  a go-to manual for any organization that wants to k
 now what it looks like to activate the values of diversity\,  equity\,  inc
 lusion\,  and belonging in[..]\nhttps://graphicartistsguild.org/events/desi
 gn-for-identity/
URL:https://graphicartistsguild.org/events/design-for-identity/
END:VEVENT
END:VCALENDAR